BEGIN:VCALENDAR
VERSION:2.0
PRODID:-//Egedal Gymnasium - ECPv6.15.20//NONSGML v1.0//EN
CALSCALE:GREGORIAN
METHOD:PUBLISH
X-WR-CALNAME:Egedal Gymnasium
X-ORIGINAL-URL:https://egedalgym.dk
X-WR-CALDESC:Begivenheder for Egedal Gymnasium
REFRESH-INTERVAL;VALUE=DURATION:PT1H
X-Robots-Tag:noindex
X-PUBLISHED-TTL:PT1H
BEGIN:VTIMEZONE
TZID:UTC
BEGIN:STANDARD
TZOFFSETFROM:+0000
TZOFFSETTO:+0000
TZNAME:UTC
DTSTART:20250101T000000
END:STANDARD
END:VTIMEZONE
BEGIN:VEVENT
DTSTART;TZID=UTC:20260528T000000
DTEND;TZID=UTC:20260529T000000
DTSTAMP:20260424T001449
CREATED:20250916T082623Z
LAST-MODIFIED:20250916T082623Z
UID:26225-1779926400-1780012800@egedalgym.dk
SUMMARY:DHO-prøver (1g)
DESCRIPTION:
URL:https://egedalgym.dk/something/dho-proever-1g/
END:VEVENT
END:VCALENDAR